BEGIN:VCALENDAR
VERSION:2.0
PRODID:-//SEED SPOT - ECPv6.15.20//NONSGML v1.0//EN
CALSCALE:GREGORIAN
METHOD:PUBLISH
X-ORIGINAL-URL:https://seedspot.org
X-WR-CALDESC:Events for SEED SPOT
REFRESH-INTERVAL;VALUE=DURATION:PT1H
X-Robots-Tag:noindex
X-PUBLISHED-TTL:PT1H
BEGIN:VTIMEZONE
TZID:America/Phoenix
BEGIN:STANDARD
TZOFFSETFROM:-0700
TZOFFSETTO:-0700
TZNAME:MST
DTSTART:20240101T000000
END:STANDARD
END:VTIMEZONE
BEGIN:VEVENT
DTSTART;TZID=America/Phoenix:20250319T090000
DTEND;TZID=America/Phoenix:20250319T100000
DTSTAMP:20260422T142157
CREATED:20250213T195857Z
LAST-MODIFIED:20250220T232354Z
UID:20841-1742374800-1742378400@seedspot.org
SUMMARY:The Psychology of Communication: How to Connect Authentically with Your Audience
DESCRIPTION:Great marketing is not just about what you say. It is about how your audience feels when they hear it. This session will discuss the psychology behind effective communication\, storytelling\, and audience connection. You will learn to craft messages that resonate deeply\, drive engagement\, and inspire action. Whether you are writing copy\, creating campaigns\, or building brand trust\, understanding how people think and react can transform how you communicate. \nThis session is for marketers\, business owners\, and anyone who wants to go beyond selling and start connecting.
URL:https://seedspot.org/sst25-event/the-psychology-of-communication/
LOCATION:Novle Offices\, 1300 E Missouri Ave Suite 210\,\, Phoenix\, Arizona\, 85014
CATEGORIES:Leadership,Marketing,Sales
ATTACH;FMTTYPE=image/png:https://seedspot.org/wp-content/uploads/2025/02/power-of-communicartion-2.png
END:VEVENT
BEGIN:VEVENT
DTSTART;TZID=America/Phoenix:20250318T120000
DTEND;TZID=America/Phoenix:20250318T130000
DTSTAMP:20260422T142157
CREATED:20250301T171135Z
LAST-MODIFIED:20250301T171625Z
UID:21684-1742299200-1742302800@seedspot.org
SUMMARY:The Go-Giver Entrepreneur: How to Build a Thriving Business Through Partnerships\, Value\, and Authentic Influence
DESCRIPTION:What Participants Will Learn:\n \n\nHow to attract customers\, investors\, and partners effortlessly by providing massive value first.\n\nThe Five Laws of the Go-Giver and why they’re the key to sustainable success.\n\nHow to master authentic influence\, trust-based networking\, and non-pushy sales.\nThe secret to turning every interaction into a long-term\, mutually beneficial opportunity.\n\nWho Should Attend:\n \n\nEntrepreneurs who struggle with networking\, partnerships\, and authentic business growth.\n\nFounders who hate traditional selling and want a high-integrity approach to influence.\n\nBusiness owners looking to scale through relationships\, referrals\, and strategic partnerships.\n\nTakeaway:\n \n\nWalk away with a clear networking and business-building strategy that allows you to sell\, grow\, and lead through generosity and service—while achieving exponential success.
URL:https://seedspot.org/sst25-event/the-go-giver-entrepreneur-how-to-build-a-thriving-business-through-partnerships-value-and-authentic-influence/
LOCATION:Online on Zoom
CATEGORIES:Growth,Leadership,Sales,Team Building
ATTACH;FMTTYPE=image/jpeg:https://seedspot.org/wp-content/uploads/2025/03/Go-Giver.jpg
END:VEVENT
BEGIN:VEVENT
DTSTART;TZID=America/Phoenix:20250312T160000
DTEND;TZID=America/Phoenix:20250312T170000
DTSTAMP:20260422T142157
CREATED:20250228T161809Z
LAST-MODIFIED:20250228T161901Z
UID:21615-1741795200-1741798800@seedspot.org
SUMMARY:Técnicas para conocer y deleitar a sus futuros clientes
DESCRIPTION:Este taller enseñará a los participantes a encontrar a los clientes de su mercado objetivo\, y a construir una interacción exitosa con los clientes para aumentar la retención de clientes y las ventas. 
URL:https://seedspot.org/sst25-event/tecnicas-para-conocer-y-deleitar-a-sus-futuros-clientes/
LOCATION:Prestamos CDFI Women’s Business Center\, 1008 E Buckeye Rd suite 215\, Phoenix\, AZ\, 85034\, United States
CATEGORIES:Sales
ATTACH;FMTTYPE=image/png:https://seedspot.org/wp-content/uploads/2025/02/Tecnicas-para-conocer-y-deleitar-a-sus-futuros-clientes.png
END:VEVENT
END:VCALENDAR