BEGIN:VCALENDAR
VERSION:2.0
PRODID:-//SEED SPOT - ECPv6.15.20//NONSGML v1.0//EN
CALSCALE:GREGORIAN
METHOD:PUBLISH
X-ORIGINAL-URL:https://seedspot.org
X-WR-CALDESC:Events for SEED SPOT
REFRESH-INTERVAL;VALUE=DURATION:PT1H
X-Robots-Tag:noindex
X-PUBLISHED-TTL:PT1H
BEGIN:VTIMEZONE
TZID:America/Phoenix
BEGIN:STANDARD
TZOFFSETFROM:-0700
TZOFFSETTO:-0700
TZNAME:MST
DTSTART:20240101T000000
END:STANDARD
END:VTIMEZONE
BEGIN:VEVENT
DTSTART;TZID=America/Phoenix:20250319T120000
DTEND;TZID=America/Phoenix:20250319T130000
DTSTAMP:20260420T234201
CREATED:20250310T172554Z
LAST-MODIFIED:20250310T172741Z
UID:22808-1742385600-1742389200@seedspot.org
SUMMARY:Flow\, Fear & The Entrepreneur’s Mindset: How to Build Confidence\, Make Bold Decisions\, and Unlock Peak Performance
DESCRIPTION:What Participants Will Learn:\n \n\nHow to rewire fear and self-doubt using neuroscience-backed techniques.\n\nThe Flow State formula to maximize focus\, creativity\, and productivity.\n\nHow high-performing founders make bold decisions under uncertainty.\nDaily habits and mindset shifts to stay resilient\, avoid burnout\, and execute with confidence.\n\nWho Should Attend: \n\nFounders and entrepreneurs who feel stuck\, overwhelmed\, or hesitant to take action.\n\nBusiness owners who want to enhance focus\, decision-making\, and long-term success.\n\nAnyone looking to tap into peak performance\, eliminate distractions\, and build an unshakable mindset.\n\n\nTakeaway:\n \n\nLeave with a practical\, personalized action plan to break through mental barriers\, enter flow state\, and execute with clarity and confidence.
URL:https://seedspot.org/sst25-event/flow-fear-the-entrepreneurs-mindset-how-to-build-confidence-make-bold-decisions-and-unlock-peak-performance-2/
LOCATION:Online on Zoom
CATEGORIES:H.R,Leadership,Team Building
ATTACH;FMTTYPE=image/jpeg:https://seedspot.org/wp-content/uploads/2025/03/Flow-Fear-Giver.jpg
END:VEVENT
BEGIN:VEVENT
DTSTART;TZID=America/Phoenix:20250305T120000
DTEND;TZID=America/Phoenix:20250305T130000
DTSTAMP:20260420T234201
CREATED:20250226T185535Z
LAST-MODIFIED:20250305T175106Z
UID:21421-1741176000-1741179600@seedspot.org
SUMMARY:Leading Authentically
DESCRIPTION:If you’re ready to inspire authentic leadership\, build community resilience\, and foster inclusivity\, then this call is for you! Our immersive workshops take teams on a Hero’s Journey Quest\, guiding each participant to discover their unique gifts—from Presence and Insight to Collaboration and Resilience—and explore how these strengths shape impactful\, collaborative leadership. \nThrough the principles of Transformative Justice and Emergent Strategy\, we show teams how to harness each other’s gifts to create a shared vision. It’s leadership training that transcends traditional methods\, empowering your team to lead\, learn\, and grow together in lasting ways. \nThis is a one to two-hour workshop for groups of 4-50 individuals. Great for students\, leadership cohorts\, student-led organizations\, or your team’s next professional development. \n 
URL:https://seedspot.org/sst25-event/leading-authentically/
LOCATION:Online on Zoom
CATEGORIES:H.R,Leadership,Social Impact,Team Building
ATTACH;FMTTYPE=image/png:https://seedspot.org/wp-content/uploads/2025/02/Leading-Authentically.png
END:VEVENT
END:VCALENDAR